BEGIN:VCALENDAR
VERSION:2.0
PRODID:-//International Storytelling Center - ECPv6.15.20//NONSGML v1.0//EN
CALSCALE:GREGORIAN
METHOD:PUBLISH
X-ORIGINAL-URL:https://www.storytellingcenter.net
X-WR-CALDESC:Events for International Storytelling Center
REFRESH-INTERVAL;VALUE=DURATION:PT1H
X-Robots-Tag:noindex
X-PUBLISHED-TTL:PT1H
BEGIN:VTIMEZONE
TZID:America/New_York
BEGIN:DAYLIGHT
TZOFFSETFROM:-0500
TZOFFSETTO:-0400
TZNAME:EDT
DTSTART:20250309T070000
END:DAYLIGHT
BEGIN:STANDARD
TZOFFSETFROM:-0400
TZOFFSETTO:-0500
TZNAME:EST
DTSTART:20251102T060000
END:STANDARD
BEGIN:DAYLIGHT
TZOFFSETFROM:-0500
TZOFFSETTO:-0400
TZNAME:EDT
DTSTART:20260308T070000
END:DAYLIGHT
BEGIN:STANDARD
TZOFFSETFROM:-0400
TZOFFSETTO:-0500
TZNAME:EST
DTSTART:20261101T060000
END:STANDARD
BEGIN:DAYLIGHT
TZOFFSETFROM:-0500
TZOFFSETTO:-0400
TZNAME:EDT
DTSTART:20270314T070000
END:DAYLIGHT
BEGIN:STANDARD
TZOFFSETFROM:-0400
TZOFFSETTO:-0500
TZNAME:EST
DTSTART:20271107T060000
END:STANDARD
END:VTIMEZONE
BEGIN:VEVENT
DTSTART;TZID=America/New_York:20260612T140000
DTEND;TZID=America/New_York:20260612T150000
DTSTAMP:20260421T090639
CREATED:20260331T155159Z
LAST-MODIFIED:20260331T155159Z
UID:29927-1781272800-1781276400@www.storytellingcenter.net
SUMMARY:Mo Reynolds Matinee Show
DESCRIPTION:Mo Reynolds travels the country creating connections through story. Reynolds often weaves folk and fairy tales with her own lived experiences\, unlocking new ways to see ourselves in both. Every story carries her distinct\, personal touch. Mo believes storytelling is a circular experience\, with the audience as part of the story\, even when she’s the only one speaking. \nMo will be collecting new stories as she travels through Central America for six months with her family. You can follow their adventures on her YouTube channel: The Traveling Teller. \n\n  Buy Tickets Here
URL:https://www.storytellingcenter.net/event/mo-reynolds-matinee-show-4/
LOCATION:International Storytelling Center\, 100 West Main St\, Jonesborough\, TN\, 37659\, United States
CATEGORIES:Storytelling Live
ATTACH;FMTTYPE=image/png:https://www.storytellingcenter.net/wp-content/uploads/2026/03/Mo-calendar-image.png
END:VEVENT
END:VCALENDAR