BEGIN:VCALENDAR
VERSION:2.0
PRODID:-//International Storytelling Center - ECPv6.15.20//NONSGML v1.0//EN
CALSCALE:GREGORIAN
METHOD:PUBLISH
X-ORIGINAL-URL:https://www.storytellingcenter.net
X-WR-CALDESC:Events for International Storytelling Center
REFRESH-INTERVAL;VALUE=DURATION:PT1H
X-Robots-Tag:noindex
X-PUBLISHED-TTL:PT1H
BEGIN:VTIMEZONE
TZID:America/New_York
BEGIN:DAYLIGHT
TZOFFSETFROM:-0500
TZOFFSETTO:-0400
TZNAME:EDT
DTSTART:20250309T070000
END:DAYLIGHT
BEGIN:STANDARD
TZOFFSETFROM:-0400
TZOFFSETTO:-0500
TZNAME:EST
DTSTART:20251102T060000
END:STANDARD
BEGIN:DAYLIGHT
TZOFFSETFROM:-0500
TZOFFSETTO:-0400
TZNAME:EDT
DTSTART:20260308T070000
END:DAYLIGHT
BEGIN:STANDARD
TZOFFSETFROM:-0400
TZOFFSETTO:-0500
TZNAME:EST
DTSTART:20261101T060000
END:STANDARD
BEGIN:DAYLIGHT
TZOFFSETFROM:-0500
TZOFFSETTO:-0400
TZNAME:EDT
DTSTART:20270314T070000
END:DAYLIGHT
BEGIN:STANDARD
TZOFFSETFROM:-0400
TZOFFSETTO:-0500
TZNAME:EST
DTSTART:20271107T060000
END:STANDARD
END:VTIMEZONE
BEGIN:VEVENT
DTSTART;TZID=America/New_York:20260703T140000
DTEND;TZID=America/New_York:20260703T150000
DTSTAMP:20260421T090800
CREATED:20260331T162040Z
LAST-MODIFIED:20260331T162040Z
UID:29963-1783087200-1783090800@www.storytellingcenter.net
SUMMARY:Tim Lowry Matinee Show
DESCRIPTION:Storyteller Tim Lowry replaces the top hat and tails of an old-fashioned showman with a seersucker suit\, mixing personal narratives\, folk tales\, tall tales\, and American history with a distinctively Southern flavor. Lowry’s signature style has earned an Oracle Award from the National Storytelling Network and Artist of the Year from Azalea Magazine. He has produced several award-winning recordings and received top honors from Storytelling World for his book\, Haunted by Dickens. Tim is continually on the road performing at festivals\, schools\, libraries\, and corporate events across the country. \n\n  Buy Tickets Here
URL:https://www.storytellingcenter.net/event/tim-lowry-matinee-show-4/
LOCATION:International Storytelling Center\, 100 West Main St\, Jonesborough\, TN\, 37659\, United States
CATEGORIES:Storytelling Live
ATTACH;FMTTYPE=image/png:https://www.storytellingcenter.net/wp-content/uploads/2026/03/Tim-L-Calendar-Image.png
END:VEVENT
END:VCALENDAR