BEGIN:VCALENDAR
VERSION:2.0
PRODID:-//International Storytelling Center - ECPv6.15.20//NONSGML v1.0//EN
CALSCALE:GREGORIAN
METHOD:PUBLISH
X-ORIGINAL-URL:https://www.storytellingcenter.net
X-WR-CALDESC:Events for International Storytelling Center
REFRESH-INTERVAL;VALUE=DURATION:PT1H
X-Robots-Tag:noindex
X-PUBLISHED-TTL:PT1H
BEGIN:VTIMEZONE
TZID:America/New_York
BEGIN:DAYLIGHT
TZOFFSETFROM:-0500
TZOFFSETTO:-0400
TZNAME:EDT
DTSTART:20250309T070000
END:DAYLIGHT
BEGIN:STANDARD
TZOFFSETFROM:-0400
TZOFFSETTO:-0500
TZNAME:EST
DTSTART:20251102T060000
END:STANDARD
BEGIN:DAYLIGHT
TZOFFSETFROM:-0500
TZOFFSETTO:-0400
TZNAME:EDT
DTSTART:20260308T070000
END:DAYLIGHT
BEGIN:STANDARD
TZOFFSETFROM:-0400
TZOFFSETTO:-0500
TZNAME:EST
DTSTART:20261101T060000
END:STANDARD
BEGIN:DAYLIGHT
TZOFFSETFROM:-0500
TZOFFSETTO:-0400
TZNAME:EDT
DTSTART:20270314T070000
END:DAYLIGHT
BEGIN:STANDARD
TZOFFSETFROM:-0400
TZOFFSETTO:-0500
TZNAME:EST
DTSTART:20271107T060000
END:STANDARD
END:VTIMEZONE
BEGIN:VEVENT
DTSTART;TZID=America/New_York:20260718T140000
DTEND;TZID=America/New_York:20260718T150000
DTSTAMP:20260421T102953
CREATED:20260331T165643Z
LAST-MODIFIED:20260331T165643Z
UID:29988-1784383200-1784386800@www.storytellingcenter.net
SUMMARY:Geraldine Buckley Matinee Show
DESCRIPTION:Known primarily for personal stories that make people laugh and think\, Geraldine has an eclectic background filled with adventures. For example\, she was a Country and Western DJ in a hospital radio station in London\, England: had a very popular restaurant review column called “The Galloping Glutton” in a glossy English language magazine on the South Coast of Spain; raised up one of the first poetry performance slam teams in South Africa; and although she was born and brought up in England and went to a convent boarding school\, she became the Protestant Chaplain in the largest men’s prison in Maryland. Audiences at festivals\, conferences\, and colleges up and down the country and overseas love to hear her stories\, and she loves to tell them. Frequently heard on Sirius radio\, Geraldine has recorded three CDs\, all of which received Storytelling World gold awards.  \n\n  Buy Tickets Here
URL:https://www.storytellingcenter.net/event/geraldine-buckley-matinee-show-5/
LOCATION:International Storytelling Center\, 100 West Main St\, Jonesborough\, TN\, 37659\, United States
CATEGORIES:Storytelling Live
ATTACH;FMTTYPE=image/png:https://www.storytellingcenter.net/wp-content/uploads/2026/03/Geraldine-calendar-image.png
END:VEVENT
END:VCALENDAR