BEGIN:VCALENDAR
VERSION:2.0
PRODID:-//International Storytelling Center - ECPv6.15.20//NONSGML v1.0//EN
CALSCALE:GREGORIAN
METHOD:PUBLISH
X-WR-CALNAME:International Storytelling Center
X-ORIGINAL-URL:https://www.storytellingcenter.net
X-WR-CALDESC:Events for International Storytelling Center
REFRESH-INTERVAL;VALUE=DURATION:PT1H
X-Robots-Tag:noindex
X-PUBLISHED-TTL:PT1H
BEGIN:VTIMEZONE
TZID:America/New_York
BEGIN:DAYLIGHT
TZOFFSETFROM:-0500
TZOFFSETTO:-0400
TZNAME:EDT
DTSTART:20250309T070000
END:DAYLIGHT
BEGIN:STANDARD
TZOFFSETFROM:-0400
TZOFFSETTO:-0500
TZNAME:EST
DTSTART:20251102T060000
END:STANDARD
BEGIN:DAYLIGHT
TZOFFSETFROM:-0500
TZOFFSETTO:-0400
TZNAME:EDT
DTSTART:20260308T070000
END:DAYLIGHT
BEGIN:STANDARD
TZOFFSETFROM:-0400
TZOFFSETTO:-0500
TZNAME:EST
DTSTART:20261101T060000
END:STANDARD
BEGIN:DAYLIGHT
TZOFFSETFROM:-0500
TZOFFSETTO:-0400
TZNAME:EDT
DTSTART:20270314T070000
END:DAYLIGHT
BEGIN:STANDARD
TZOFFSETFROM:-0400
TZOFFSETTO:-0500
TZNAME:EST
DTSTART:20271107T060000
END:STANDARD
END:VTIMEZONE
BEGIN:VEVENT
DTSTART;TZID=America/New_York:20260721T140000
DTEND;TZID=America/New_York:20260721T150000
DTSTAMP:20260421T102948
CREATED:20260331T165848Z
LAST-MODIFIED:20260331T165848Z
UID:29990-1784642400-1784646000@www.storytellingcenter.net
SUMMARY:Brigid Reedy Matinee Show
DESCRIPTION:Featured at the National Cowboy Poetry Gathering for the past six years\, Brigid Reedy has become a singular young voice representing her beloved home state of Montana. Brigid is an important singer\, songwriter\, fiddler\, and poet – carrying forward classic cowboy music\, poetry\, and rich Montana fiddle traditions with exceptional musicianship\, a distinctive approach to repertoire\, and her strong sense of place. A charismatic performer since the age of two when she first yodeled at the Pioneer Saloon\, Brigid (now 20) has traveled widely\, carrying with her boundless enthusiasm\, grace\, passion\, and soul. Brigid will be joined by her little brother\, Johnny “Guitar” Reedy\, who at only 15 has transcended the role of sideman\, becoming a full-fledged collaborator\, possessing a phenomenal gift for rhythm and extraordinary musical sensibilities. Brigid and Johnny are excited to share with you their love of Montana\, Western culture\, and a voracious appetite for good music.  \n\n  Buy Tickets Here
URL:https://www.storytellingcenter.net/event/brigid-reedy-matinee-show/
LOCATION:International Storytelling Center\, 100 West Main St\, Jonesborough\, TN\, 37659\, United States
CATEGORIES:Storytelling Live
ATTACH;FMTTYPE=image/png:https://www.storytellingcenter.net/wp-content/uploads/2026/03/Brigid-Reedy-Evening-Show-Image.png
END:VEVENT
END:VCALENDAR