BEGIN:VCALENDAR
VERSION:2.0
PRODID:-//International Storytelling Center - ECPv6.15.20//NONSGML v1.0//EN
CALSCALE:GREGORIAN
METHOD:PUBLISH
X-WR-CALNAME:International Storytelling Center
X-ORIGINAL-URL:https://www.storytellingcenter.net
X-WR-CALDESC:Events for International Storytelling Center
REFRESH-INTERVAL;VALUE=DURATION:PT1H
X-Robots-Tag:noindex
X-PUBLISHED-TTL:PT1H
BEGIN:VTIMEZONE
TZID:America/New_York
BEGIN:DAYLIGHT
TZOFFSETFROM:-0500
TZOFFSETTO:-0400
TZNAME:EDT
DTSTART:20250309T070000
END:DAYLIGHT
BEGIN:STANDARD
TZOFFSETFROM:-0400
TZOFFSETTO:-0500
TZNAME:EST
DTSTART:20251102T060000
END:STANDARD
BEGIN:DAYLIGHT
TZOFFSETFROM:-0500
TZOFFSETTO:-0400
TZNAME:EDT
DTSTART:20260308T070000
END:DAYLIGHT
BEGIN:STANDARD
TZOFFSETFROM:-0400
TZOFFSETTO:-0500
TZNAME:EST
DTSTART:20261101T060000
END:STANDARD
BEGIN:DAYLIGHT
TZOFFSETFROM:-0500
TZOFFSETTO:-0400
TZNAME:EDT
DTSTART:20270314T070000
END:DAYLIGHT
BEGIN:STANDARD
TZOFFSETFROM:-0400
TZOFFSETTO:-0500
TZNAME:EST
DTSTART:20271107T060000
END:STANDARD
END:VTIMEZONE
BEGIN:VEVENT
DTSTART;TZID=America/New_York:20260829T140000
DTEND;TZID=America/New_York:20260829T150000
DTSTAMP:20260421T115502
CREATED:20260331T180924Z
LAST-MODIFIED:20260331T180924Z
UID:30056-1788012000-1788015600@www.storytellingcenter.net
SUMMARY:Tim Ereneta Matinee Show
DESCRIPTION:Storyteller Tim Ereneta connects ancient stories to modern-day life\, as he shares classic and forgotten fairy tales with audiences of all ages—but especially adults. Trained as a playwright and actor\, Ereneta is an award-winning storyteller based in Berkeley\, California\, who has performed on stages in schools\, theaters\, and festivals across the country.  Originally interested in sketch comedy\, Tim found he could get as big a reaction from audiences from telling a Grimm’s fairy tale as he could from performing original comedy.  \n\n  Buy Tickets Here
URL:https://www.storytellingcenter.net/event/tim-ereneta-matinee-show-5/
LOCATION:International Storytelling Center\, 100 West Main St\, Jonesborough\, TN\, 37659\, United States
CATEGORIES:Storytelling Live
ATTACH;FMTTYPE=image/png:https://www.storytellingcenter.net/wp-content/uploads/2026/03/Tim-Ereneta-calendar-image.png
END:VEVENT
END:VCALENDAR