BEGIN:VCALENDAR
VERSION:2.0
PRODID:-//International Storytelling Center - ECPv6.15.20//NONSGML v1.0//EN
CALSCALE:GREGORIAN
METHOD:PUBLISH
X-WR-CALNAME:International Storytelling Center
X-ORIGINAL-URL:https://www.storytellingcenter.net
X-WR-CALDESC:Events for International Storytelling Center
REFRESH-INTERVAL;VALUE=DURATION:PT1H
X-Robots-Tag:noindex
X-PUBLISHED-TTL:PT1H
BEGIN:VTIMEZONE
TZID:America/New_York
BEGIN:DAYLIGHT
TZOFFSETFROM:-0500
TZOFFSETTO:-0400
TZNAME:EDT
DTSTART:20250309T070000
END:DAYLIGHT
BEGIN:STANDARD
TZOFFSETFROM:-0400
TZOFFSETTO:-0500
TZNAME:EST
DTSTART:20251102T060000
END:STANDARD
BEGIN:DAYLIGHT
TZOFFSETFROM:-0500
TZOFFSETTO:-0400
TZNAME:EDT
DTSTART:20260308T070000
END:DAYLIGHT
BEGIN:STANDARD
TZOFFSETFROM:-0400
TZOFFSETTO:-0500
TZNAME:EST
DTSTART:20261101T060000
END:STANDARD
BEGIN:DAYLIGHT
TZOFFSETFROM:-0500
TZOFFSETTO:-0400
TZNAME:EDT
DTSTART:20270314T070000
END:DAYLIGHT
BEGIN:STANDARD
TZOFFSETFROM:-0400
TZOFFSETTO:-0500
TZNAME:EST
DTSTART:20271107T060000
END:STANDARD
END:VTIMEZONE
BEGIN:VEVENT
DTSTART;TZID=America/New_York:20260910T140000
DTEND;TZID=America/New_York:20260910T150000
DTSTAMP:20260421T132735
CREATED:20260331T184219Z
LAST-MODIFIED:20260331T184219Z
UID:30085-1789048800-1789052400@www.storytellingcenter.net
SUMMARY:Sarah Brady Matinee Concert
DESCRIPTION:Storyteller\, actress\, teaching artist\, and writer\, Sarah Brady taught communication and theater at Hampton University before making her way toward the storytelling world in 2014. She has told stories in the US and UK\, where she lived for three years as her roots grew deep in British soil. Sarah’s telling spans genres of historical\, traditional\, literary\, and personal tales\, while her awards include being chosen the Sunburst Performing Artist of the Year by Arts for Learning Virginia. Passionate about stories that help us see each other and the world around us\, she specializes in finding the heart of each story she tells. \n\n  Buy Tickets Here
URL:https://www.storytellingcenter.net/event/sarah-brady-matinee-concert-3/
LOCATION:International Storytelling Center\, 100 West Main St\, Jonesborough\, TN\, 37659\, United States
CATEGORIES:Storytelling Live
ATTACH;FMTTYPE=image/png:https://www.storytellingcenter.net/wp-content/uploads/2026/03/Sarah-Brady.png
END:VEVENT
END:VCALENDAR