BEGIN:VCALENDAR
VERSION:2.0
PRODID:-//International Storytelling Center - ECPv6.15.20//NONSGML v1.0//EN
CALSCALE:GREGORIAN
METHOD:PUBLISH
X-ORIGINAL-URL:https://www.storytellingcenter.net
X-WR-CALDESC:Events for International Storytelling Center
REFRESH-INTERVAL;VALUE=DURATION:PT1H
X-Robots-Tag:noindex
X-PUBLISHED-TTL:PT1H
BEGIN:VTIMEZONE
TZID:America/New_York
BEGIN:DAYLIGHT
TZOFFSETFROM:-0500
TZOFFSETTO:-0400
TZNAME:EDT
DTSTART:20250309T070000
END:DAYLIGHT
BEGIN:STANDARD
TZOFFSETFROM:-0400
TZOFFSETTO:-0500
TZNAME:EST
DTSTART:20251102T060000
END:STANDARD
BEGIN:DAYLIGHT
TZOFFSETFROM:-0500
TZOFFSETTO:-0400
TZNAME:EDT
DTSTART:20260308T070000
END:DAYLIGHT
BEGIN:STANDARD
TZOFFSETFROM:-0400
TZOFFSETTO:-0500
TZNAME:EST
DTSTART:20261101T060000
END:STANDARD
BEGIN:DAYLIGHT
TZOFFSETFROM:-0500
TZOFFSETTO:-0400
TZNAME:EDT
DTSTART:20270314T070000
END:DAYLIGHT
BEGIN:STANDARD
TZOFFSETFROM:-0400
TZOFFSETTO:-0500
TZNAME:EST
DTSTART:20271107T060000
END:STANDARD
END:VTIMEZONE
BEGIN:VEVENT
DTSTART;TZID=America/New_York:20260916T140000
DTEND;TZID=America/New_York:20260916T150000
DTSTAMP:20260421T132847
CREATED:20260331T183456Z
LAST-MODIFIED:20260331T183456Z
UID:30072-1789567200-1789570800@www.storytellingcenter.net
SUMMARY:Mitch Capel Matinee Show
DESCRIPTION:Mitch Capel\, who often performs as “Gran’daddy Junebug\,” is a seasoned storyteller\, recording artist\, published author\, and poet. Mitch first began writing and performing skits at the age of 12\, and has delighted audiences throughout the U.S. with his warmth\, wit\, and compelling storytelling style since 1985. Considered the “national interpreter” of the poet laureate Paul Laurence Dunbar’s work\, Capel has been featured at venues across the country\, including the DuSable Black History Museum\, The Kennedy Center\, the Smithsonian Folklife Festival\, and the Presidential Inauguration of Barack Obama. \n\n  Buy Tickets Here
URL:https://www.storytellingcenter.net/event/mitch-capel-matinee-show-2/
LOCATION:International Storytelling Center\, 100 West Main St\, Jonesborough\, TN\, 37659\, United States
CATEGORIES:Storytelling Live
ATTACH;FMTTYPE=image/png:https://www.storytellingcenter.net/wp-content/uploads/2026/03/mitch-capel-calendar-image-.png
END:VEVENT
END:VCALENDAR