BEGIN:VCALENDAR
VERSION:2.0
PRODID:-//International Storytelling Center - ECPv6.15.20//NONSGML v1.0//EN
CALSCALE:GREGORIAN
METHOD:PUBLISH
X-WR-CALNAME:International Storytelling Center
X-ORIGINAL-URL:https://www.storytellingcenter.net
X-WR-CALDESC:Events for International Storytelling Center
REFRESH-INTERVAL;VALUE=DURATION:PT1H
X-Robots-Tag:noindex
X-PUBLISHED-TTL:PT1H
BEGIN:VTIMEZONE
TZID:America/New_York
BEGIN:DAYLIGHT
TZOFFSETFROM:-0500
TZOFFSETTO:-0400
TZNAME:EDT
DTSTART:20250309T070000
END:DAYLIGHT
BEGIN:STANDARD
TZOFFSETFROM:-0400
TZOFFSETTO:-0500
TZNAME:EST
DTSTART:20251102T060000
END:STANDARD
BEGIN:DAYLIGHT
TZOFFSETFROM:-0500
TZOFFSETTO:-0400
TZNAME:EDT
DTSTART:20260308T070000
END:DAYLIGHT
BEGIN:STANDARD
TZOFFSETFROM:-0400
TZOFFSETTO:-0500
TZNAME:EST
DTSTART:20261101T060000
END:STANDARD
BEGIN:DAYLIGHT
TZOFFSETFROM:-0500
TZOFFSETTO:-0400
TZNAME:EDT
DTSTART:20270314T070000
END:DAYLIGHT
BEGIN:STANDARD
TZOFFSETFROM:-0400
TZOFFSETTO:-0500
TZNAME:EST
DTSTART:20271107T060000
END:STANDARD
END:VTIMEZONE
BEGIN:VEVENT
DTSTART;TZID=America/New_York:20260928T140000
DTEND;TZID=America/New_York:20260928T150000
DTSTAMP:20260421T132736
CREATED:20260331T185416Z
LAST-MODIFIED:20260331T185416Z
UID:30103-1790604000-1790607600@www.storytellingcenter.net
SUMMARY:Donald Davis Matinee Show
DESCRIPTION:A regular performer at festivals across the nation\, Donald Davis tells true stories based on the better-than-fiction verities of human life. Davis grew up in a family of storytelling folks in the mountains of Western North Carolina and has continued their tradition throughout his career. He has performed throughout the U.S. and abroad\, authored 19 books\, and released over 50 audio recordings. Davis is a recipient of the NSN ORACLE Circle of Excellence and Lifetime Achievement awards. \n\n  Buy Tickets Here
URL:https://www.storytellingcenter.net/event/donald-davis-matinee-show/
LOCATION:International Storytelling Center\, 100 West Main St\, Jonesborough\, TN\, 37659\, United States
CATEGORIES:Storytelling Live
ATTACH;FMTTYPE=image/png:https://www.storytellingcenter.net/wp-content/uploads/2026/03/Donald-Davis-Evening-Show-Image.png
END:VEVENT
END:VCALENDAR