BEGIN:VCALENDAR
VERSION:2.0
PRODID:-//International Storytelling Center - ECPv6.15.20//NONSGML v1.0//EN
CALSCALE:GREGORIAN
METHOD:PUBLISH
X-WR-CALNAME:International Storytelling Center
X-ORIGINAL-URL:https://www.storytellingcenter.net
X-WR-CALDESC:Events for International Storytelling Center
REFRESH-INTERVAL;VALUE=DURATION:PT1H
X-Robots-Tag:noindex
X-PUBLISHED-TTL:PT1H
BEGIN:VTIMEZONE
TZID:America/New_York
BEGIN:DAYLIGHT
TZOFFSETFROM:-0500
TZOFFSETTO:-0400
TZNAME:EDT
DTSTART:20200308T070000
END:DAYLIGHT
BEGIN:STANDARD
TZOFFSETFROM:-0400
TZOFFSETTO:-0500
TZNAME:EST
DTSTART:20201101T060000
END:STANDARD
BEGIN:DAYLIGHT
TZOFFSETFROM:-0500
TZOFFSETTO:-0400
TZNAME:EDT
DTSTART:20210314T070000
END:DAYLIGHT
BEGIN:STANDARD
TZOFFSETFROM:-0400
TZOFFSETTO:-0500
TZNAME:EST
DTSTART:20211107T060000
END:STANDARD
BEGIN:DAYLIGHT
TZOFFSETFROM:-0500
TZOFFSETTO:-0400
TZNAME:EDT
DTSTART:20220313T070000
END:DAYLIGHT
BEGIN:STANDARD
TZOFFSETFROM:-0400
TZOFFSETTO:-0500
TZNAME:EST
DTSTART:20221106T060000
END:STANDARD
BEGIN:DAYLIGHT
TZOFFSETFROM:-0500
TZOFFSETTO:-0400
TZNAME:EDT
DTSTART:20230312T070000
END:DAYLIGHT
BEGIN:STANDARD
TZOFFSETFROM:-0400
TZOFFSETTO:-0500
TZNAME:EST
DTSTART:20231105T060000
END:STANDARD
BEGIN:DAYLIGHT
TZOFFSETFROM:-0500
TZOFFSETTO:-0400
TZNAME:EDT
DTSTART:20240310T070000
END:DAYLIGHT
BEGIN:STANDARD
TZOFFSETFROM:-0400
TZOFFSETTO:-0500
TZNAME:EST
DTSTART:20241103T060000
END:STANDARD
BEGIN:DAYLIGHT
TZOFFSETFROM:-0500
TZOFFSETTO:-0400
TZNAME:EDT
DTSTART:20250309T070000
END:DAYLIGHT
BEGIN:STANDARD
TZOFFSETFROM:-0400
TZOFFSETTO:-0500
TZNAME:EST
DTSTART:20251102T060000
END:STANDARD
BEGIN:DAYLIGHT
TZOFFSETFROM:-0500
TZOFFSETTO:-0400
TZNAME:EDT
DTSTART:20260308T070000
END:DAYLIGHT
BEGIN:STANDARD
TZOFFSETFROM:-0400
TZOFFSETTO:-0500
TZNAME:EST
DTSTART:20261101T060000
END:STANDARD
BEGIN:DAYLIGHT
TZOFFSETFROM:-0500
TZOFFSETTO:-0400
TZNAME:EDT
DTSTART:20270314T070000
END:DAYLIGHT
BEGIN:STANDARD
TZOFFSETFROM:-0400
TZOFFSETTO:-0500
TZNAME:EST
DTSTART:20271107T060000
END:STANDARD
END:VTIMEZONE
BEGIN:VEVENT
DTSTART;TZID=America/New_York:20260528T140000
DTEND;TZID=America/New_York:20260528T150000
DTSTAMP:20260421T220626
CREATED:20260331T151814Z
LAST-MODIFIED:20260331T152230Z
UID:29899-1779976800-1779980400@www.storytellingcenter.net
SUMMARY:Josh Goforth Matinee Show
DESCRIPTION:Josh grew up in Madison County\, North Carolina surrounded by the music and stories of his ancestors.  He is a highly accomplished storyteller and old-time\, bluegrass\, and swing musician playing close to 20 instruments.  His fiddling was featured in the movie Songcatcher\, both onscreen and on the soundtrack.  He has performed in all 50 states\, throughout Europe\, Asia\, and Australia and gracing such stages as the Lincoln Center\, Carnegie Hall\, and The Grand Ole Opry. He was nominated for a Grammy for his 2009 release with David Holt\, entitled Cutting Loose. \n\n  Buy Tickets Here
URL:https://www.storytellingcenter.net/event/josh-goforth-matinee-show-3/
LOCATION:International Storytelling Center\, 100 West Main St\, Jonesborough\, TN\, 37659\, United States
CATEGORIES:Storytelling Live
ATTACH;FMTTYPE=image/png:https://www.storytellingcenter.net/wp-content/uploads/2026/03/Josh-Goforth-Evening-Show-Image.png
END:VEVENT
BEGIN:VEVENT
DTSTART;TZID=America/New_York:20260527T140000
DTEND;TZID=America/New_York:20260527T150000
DTSTAMP:20260421T220626
CREATED:20260331T151734Z
LAST-MODIFIED:20260331T151933Z
UID:29897-1779890400-1779894000@www.storytellingcenter.net
SUMMARY:Josh Goforth Matinee Show
DESCRIPTION:Josh grew up in Madison County\, North Carolina surrounded by the music and stories of his ancestors.  He is a highly accomplished storyteller and old-time\, bluegrass\, and swing musician playing close to 20 instruments.  His fiddling was featured in the movie Songcatcher\, both onscreen and on the soundtrack.  He has performed in all 50 states\, throughout Europe\, Asia\, and Australia and gracing such stages as the Lincoln Center\, Carnegie Hall\, and The Grand Ole Opry. He was nominated for a Grammy for his 2009 release with David Holt\, entitled Cutting Loose. \n\n  Buy Tickets Here
URL:https://www.storytellingcenter.net/event/josh-goforth-matinee-show-2/
LOCATION:International Storytelling Center\, 100 West Main St\, Jonesborough\, TN\, 37659\, United States
CATEGORIES:Storytelling Live
ATTACH;FMTTYPE=image/png:https://www.storytellingcenter.net/wp-content/uploads/2026/03/Josh-Goforth-Evening-Show-Image.png
END:VEVENT
BEGIN:VEVENT
DTSTART;TZID=America/New_York:20260526T140000
DTEND;TZID=America/New_York:20260526T150000
DTSTAMP:20260421T220626
CREATED:20260331T151633Z
LAST-MODIFIED:20260331T151951Z
UID:29895-1779804000-1779807600@www.storytellingcenter.net
SUMMARY:Josh Goforth Matinee Show
DESCRIPTION:Josh grew up in Madison County\, North Carolina surrounded by the music and stories of his ancestors.  He is a highly accomplished storyteller and old-time\, bluegrass\, and swing musician playing close to 20 instruments.  His fiddling was featured in the movie Songcatcher\, both onscreen and on the soundtrack.  He has performed in all 50 states\, throughout Europe\, Asia\, and Australia and gracing such stages as the Lincoln Center\, Carnegie Hall\, and The Grand Ole Opry. He was nominated for a Grammy for his 2009 release with David Holt\, entitled Cutting Loose. \n\n  Buy Tickets Here
URL:https://www.storytellingcenter.net/event/josh-goforth-matinee-show/
LOCATION:International Storytelling Center\, 100 West Main St\, Jonesborough\, TN\, 37659\, United States
CATEGORIES:Storytelling Live
ATTACH;FMTTYPE=image/png:https://www.storytellingcenter.net/wp-content/uploads/2026/03/Josh-Goforth-Evening-Show-Image.png
END:VEVENT
BEGIN:VEVENT
DTSTART;TZID=America/New_York:20260523T140000
DTEND;TZID=America/New_York:20260523T150000
DTSTAMP:20260421T220626
CREATED:20260331T145458Z
LAST-MODIFIED:20260331T145534Z
UID:29891-1779544800-1779548400@www.storytellingcenter.net
SUMMARY:Bil Lepp Matinee Show
DESCRIPTION:Bil Lepp is a nationally touring storyteller\, humorist\, comedian\, and bearer of other synonyms that mean “funny\,” earning the appreciation of listeners from all walks of life. Though he is a five-time champion of the West Virginia Liars Contest\, his work often contains pieces of truth\, presenting universal themes in clever ways. Lepp has created over 20 audio collections\, is an award-winning children’s author\, and is a contributing columnist for West Virginia’s biggest newspaper. Lepp is a recipient of the NSN ORACLE Circle of Excellence award\, the Parents’ Choice Gold Award\, the PEN/Steven Kroll award\, and the Vandalia Award\, West Virginia’s highest folk honor. \n\n  Buy Tickets Here
URL:https://www.storytellingcenter.net/event/bil-lepp-matinee-show-4/
LOCATION:International Storytelling Center\, 100 West Main St\, Jonesborough\, TN\, 37659\, United States
CATEGORIES:Storytelling Live
ATTACH;FMTTYPE=image/png:https://www.storytellingcenter.net/wp-content/uploads/2026/03/Bil-Lepp-Evening-Show-Image.png
END:VEVENT
BEGIN:VEVENT
DTSTART;TZID=America/New_York:20260522T140000
DTEND;TZID=America/New_York:20260522T150000
DTSTAMP:20260421T220626
CREATED:20260331T145607Z
LAST-MODIFIED:20260331T145607Z
UID:29893-1779458400-1779462000@www.storytellingcenter.net
SUMMARY:Bil Lepp Matinee Show
DESCRIPTION:Bil Lepp is a nationally touring storyteller\, humorist\, comedian\, and bearer of other synonyms that mean “funny\,” earning the appreciation of listeners from all walks of life. Though he is a five-time champion of the West Virginia Liars Contest\, his work often contains pieces of truth\, presenting universal themes in clever ways. Lepp has created over 20 audio collections\, is an award-winning children’s author\, and is a contributing columnist for West Virginia’s biggest newspaper. Lepp is a recipient of the NSN ORACLE Circle of Excellence award\, the Parents’ Choice Gold Award\, the PEN/Steven Kroll award\, and the Vandalia Award\, West Virginia’s highest folk honor. \n\n  Buy Tickets Here
URL:https://www.storytellingcenter.net/event/bil-lepp-matinee-show-5/
LOCATION:International Storytelling Center\, 100 West Main St\, Jonesborough\, TN\, 37659\, United States
CATEGORIES:Storytelling Live
ATTACH;FMTTYPE=image/png:https://www.storytellingcenter.net/wp-content/uploads/2026/03/Bil-Lepp-Evening-Show-Image.png
END:VEVENT
BEGIN:VEVENT
DTSTART;TZID=America/New_York:20260521T140000
DTEND;TZID=America/New_York:20260521T150000
DTSTAMP:20260421T220626
CREATED:20260331T145418Z
LAST-MODIFIED:20260331T145418Z
UID:29889-1779372000-1779375600@www.storytellingcenter.net
SUMMARY:Bil Lepp Matinee Show
DESCRIPTION:Bil Lepp is a nationally touring storyteller\, humorist\, comedian\, and bearer of other synonyms that mean “funny\,” earning the appreciation of listeners from all walks of life. Though he is a five-time champion of the West Virginia Liars Contest\, his work often contains pieces of truth\, presenting universal themes in clever ways. Lepp has created over 20 audio collections\, is an award-winning children’s author\, and is a contributing columnist for West Virginia’s biggest newspaper. Lepp is a recipient of the NSN ORACLE Circle of Excellence award\, the Parents’ Choice Gold Award\, the PEN/Steven Kroll award\, and the Vandalia Award\, West Virginia’s highest folk honor. \n\n  Buy Tickets Here
URL:https://www.storytellingcenter.net/event/bil-lepp-matinee-show-3/
LOCATION:International Storytelling Center\, 100 West Main St\, Jonesborough\, TN\, 37659\, United States
CATEGORIES:Storytelling Live
ATTACH;FMTTYPE=image/png:https://www.storytellingcenter.net/wp-content/uploads/2026/03/Bil-Lepp-Evening-Show-Image.png
END:VEVENT
BEGIN:VEVENT
DTSTART;TZID=America/New_York:20260520T140000
DTEND;TZID=America/New_York:20260520T150000
DTSTAMP:20260421T220626
CREATED:20260331T145317Z
LAST-MODIFIED:20260331T145317Z
UID:29887-1779285600-1779289200@www.storytellingcenter.net
SUMMARY:Bil Lepp Matinee Show
DESCRIPTION:Bil Lepp is a nationally touring storyteller\, humorist\, comedian\, and bearer of other synonyms that mean “funny\,” earning the appreciation of listeners from all walks of life. Though he is a five-time champion of the West Virginia Liars Contest\, his work often contains pieces of truth\, presenting universal themes in clever ways. Lepp has created over 20 audio collections\, is an award-winning children’s author\, and is a contributing columnist for West Virginia’s biggest newspaper. Lepp is a recipient of the NSN ORACLE Circle of Excellence award\, the Parents’ Choice Gold Award\, the PEN/Steven Kroll award\, and the Vandalia Award\, West Virginia’s highest folk honor. \n\n  Buy Tickets Here
URL:https://www.storytellingcenter.net/event/bil-lepp-matinee-show-2/
LOCATION:International Storytelling Center\, 100 West Main St\, Jonesborough\, TN\, 37659\, United States
CATEGORIES:Storytelling Live
ATTACH;FMTTYPE=image/png:https://www.storytellingcenter.net/wp-content/uploads/2026/03/Bil-Lepp-Evening-Show-Image.png
END:VEVENT
BEGIN:VEVENT
DTSTART;TZID=America/New_York:20260519T140000
DTEND;TZID=America/New_York:20260519T150000
DTSTAMP:20260421T220626
CREATED:20260331T144153Z
LAST-MODIFIED:20260331T145151Z
UID:29874-1779199200-1779202800@www.storytellingcenter.net
SUMMARY:Bil Lepp Matinee Show
DESCRIPTION:Bil Lepp is a nationally touring storyteller\, humorist\, comedian\, and bearer of other synonyms that mean “funny\,” earning the appreciation of listeners from all walks of life. Though he is a five-time champion of the West Virginia Liars Contest\, his work often contains pieces of truth\, presenting universal themes in clever ways. Lepp has created over 20 audio collections\, is an award-winning children’s author\, and is a contributing columnist for West Virginia’s biggest newspaper. Lepp is a recipient of the NSN ORACLE Circle of Excellence award\, the Parents’ Choice Gold Award\, the PEN/Steven Kroll award\, and the Vandalia Award\, West Virginia’s highest folk honor. \n\n  Buy Tickets Here
URL:https://www.storytellingcenter.net/event/bil-lepp-matinee-show/
LOCATION:International Storytelling Center\, 100 West Main St\, Jonesborough\, TN\, 37659\, United States
CATEGORIES:Storytelling Live
ATTACH;FMTTYPE=image/png:https://www.storytellingcenter.net/wp-content/uploads/2026/03/Bil-Lepp-Evening-Show-Image.png
END:VEVENT
BEGIN:VEVENT
DTSTART;TZID=America/New_York:20210827T080000
DTEND;TZID=America/New_York:20210827T170000
DTSTAMP:20260421T220626
CREATED:20210827T175730Z
LAST-MODIFIED:20210827T180024Z
UID:14575-1630051200-1630083600@www.storytellingcenter.net
SUMMARY:
DESCRIPTION:
URL:https://www.storytellingcenter.net/event/workshop-test/
LOCATION:116 W. Main Street\, Jonesborough\, TN\, 37659\, United States
END:VEVENT
END:VCALENDAR